BEGIN:VCALENDAR
VERSION:2.0
PRODID:-//CPOA - ECPv6.15.17//NONSGML v1.0//EN
CALSCALE:GREGORIAN
METHOD:PUBLISH
X-WR-CALNAME:CPOA
X-ORIGINAL-URL:https://cpoa.org
X-WR-CALDESC:Events for CPOA
REFRESH-INTERVAL;VALUE=DURATION:PT1H
X-Robots-Tag:noindex
X-PUBLISHED-TTL:PT1H
BEGIN:VTIMEZONE
TZID:America/Los_Angeles
BEGIN:DAYLIGHT
TZOFFSETFROM:-0800
TZOFFSETTO:-0700
TZNAME:PDT
DTSTART:20250309T100000
END:DAYLIGHT
BEGIN:STANDARD
TZOFFSETFROM:-0700
TZOFFSETTO:-0800
TZNAME:PST
DTSTART:20251102T090000
END:STANDARD
BEGIN:DAYLIGHT
TZOFFSETFROM:-0800
TZOFFSETTO:-0700
TZNAME:PDT
DTSTART:20260308T100000
END:DAYLIGHT
BEGIN:STANDARD
TZOFFSETFROM:-0700
TZOFFSETTO:-0800
TZNAME:PST
DTSTART:20261101T090000
END:STANDARD
BEGIN:DAYLIGHT
TZOFFSETFROM:-0800
TZOFFSETTO:-0700
TZNAME:PDT
DTSTART:20270314T100000
END:DAYLIGHT
BEGIN:STANDARD
TZOFFSETFROM:-0700
TZOFFSETTO:-0800
TZNAME:PST
DTSTART:20271107T090000
END:STANDARD
END:VTIMEZONE
BEGIN:VEVENT
DTSTART;TZID=America/Los_Angeles:20260422T080000
DTEND;TZID=America/Los_Angeles:20260422T170000
DTSTAMP:20260424T062738
CREATED:20260219T221403Z
LAST-MODIFIED:20260324T190417Z
UID:22056-1776844800-1776877200@cpoa.org
SUMMARY:Pitchess Motion Update - Turlock
DESCRIPTION:Pitchess Motion Update – Turlock				\n				\n		\n				\n				\n					\n	« All Events\n 				\n				\n				\n				\n					\n	\n				\n				\n				\n				\n					This event has passed. \n				\n				\n		\n		\n				\n				\n					Course Description				\n				\n				\n				\n									This course will update you on handling a Pitchess Motion\, both procedurally and substantively\, from the time a motion is received to preparing and arguing opposition to the motion in court\, handling the on-camera hearing and appealing erroneous orders. Recent cases will be discussed. 								\n				\n		\n				\n				\n					Download Course Flyer				\n				\n				\n				\n		\n				\n				\n					Fees				\n				\n				\n				\n							\n							\n											\n													\n										Member: $200\n									\n								\n											\n													\n										Non-Member: $240\n									\n						\n						\n				\n				\n		\n				\n				\n					Instructor				\n				\n		\n		\n				\n				\n					Greg PalmerJones Mayer 				\n				\n				\n				\n				\n				\n		\n		\n				\n				\n					Location				\n				\n				\n				\n					\n				\n				\n	\n	Turlock Police Department\n	\n	\n\n244 N Broadway\n	\n		\n		Turlock\,\n\n	California\n\n	95380\n\n\n\n\n\n	+ Google Map \n\n\n\n	\n\n\n\n		\n	\n				\n				\n				\n				\n		\n		\n				\n				\n					\n	\n		\n\n	\n	Add to calendar	\n		\n	\n\n		\n			\n									\n	Google Calendar\n\n									\n	iCalendar\n\n									\n	Outlook 365\n\n									\n	Outlook Live\n\n							\n		\n\n		\n	\n\n				\n				\n				\n				\n				\n				\n		\n		\n		\n				\n				\n					Quick Info				\n				\n				\n				\n							\n			\n						\n		\n						\n				\n				\n				\n					Date/Time				\n				\n				\n				\n					\n		\n			April 22\n\n	\n\n	  @  \n\n\n8:00 am\n\n		\n\n\n\n	\n	  -  \n\n5:00 pm\n\n\n\n	\n				\n				\n				\n				\n					member Fee: $200				\n				\n				\n				\n					non-member Fee: $240				\n				\n				\n				\n							\n							\n											\n													\n										CCN:  9100-30640-25  POST Plan NA\n									\n								\n											\n													\n										Format: In-Person\n									\n								\n											\n													\n										Location: Turlock Police Department\n									\n								\n											\n													\n										Who Should Attend: All agency and legal professionals in law enforcement\n									\n						\n						\n				\n				\n				\n									\n					\n						\n									Register\n					\n					\n				\n								\n				\n				\n				\n		\n		\n				\n				\n					How to Register				\n				\n				\n				\n							\n							\n											\n													\n										Click registration button above.\n									\n								\n											\n													\n										Login to our system or create an account.\n									\n								\n											\n													\n										From your Member Compass\, click Events.\n									\n								\n											\n													\n										Follow the prompts to complete the registration process.\n									\n						\n						\n				\n				\n				\n									The easiest way to register a group of individuals is using our online system. \n\nIf you need assistance with a group registration\, please email:								\n				\n				\n				\n							\n							\n											\n\n												\n													\n										cpoa@cpoa.org
URL:https://cpoa.org/event/pitchess-motion-update-turlock-2/
LOCATION:Turlock Police Department\, 244 N Broadway\, Turlock\, California\, 95380
CATEGORIES:PM,Training
ATTACH;FMTTYPE=image/png:https://cpoa.org/wp-content/uploads/2025/01/13.png
END:VEVENT
END:VCALENDAR